BEGIN:VCALENDAR
PRODID:-//eluceo/ical//2.0/EN
VERSION:2.0
CALSCALE:GREGORIAN
BEGIN:VEVENT
UID:92672a593cdd2bd6fc2b2260f2b0147d
DTSTAMP:20260422T195052Z
SUMMARY:Hurááá prázdniny s Lollipopz
DESCRIPTION:<p style="text-align: center\;"><span style="font-weight: 400\;
 ">Máš už školy plné zuby a nemůžeš se dočkat prázdnin? Tak tohle
  je přesně pro tebe! Přijď to oslavit dřív\, než vůbec dostaneš v
 ysvědčení do ruky. Čeká nás odpoledne nabité barvami\, hudbou\, tan
 cem\, smíchem a překvapeními\, na které nezapomeneš.</span></p>\n<p s
 tyle="text-align: center\;"><span style="font-weight: 400\;">Hned u vstupu
  na tebe čeká </span><b>speciální dárek</b><span style="font-weight:
  400\;">\, který dostaneš jen na této akci. Bereme to jako první vlaš
 tovku tvých prázdnin!</span></p>\n<p style="text-align: center\;"><b>Vyk
 roč do prázdnin ve velkém stylu. Vidíme se v kotli!</b><span style="fo
 nt-weight: 400\;"> </span></p>\n<p style="text-align: center\;"><i><span 
 style="font-weight: 400\;">Vstupné od 490 Kč do 690 Kč.</span></i></p
 >\n<p> </p>\n<p> </p>
URL:https://amfiteatr.kzvalmez.cz/udalost/6167-huraaa-prazdniny-s-lollipopz
 /
DTSTART:20260625T170000
DTEND:20260625T170000
LOCATION:Amfiteátr - Amfiteátr
ORGANIZER;CN=Amfiteátr:mailto:kzvalmez@kzvalmez.cz
END:VEVENT
END:VCALENDAR
